BEGIN:VCALENDAR
VERSION:2.0
PRODID:-//Tukios.com/
BEGIN:VEVENT
UID:ed9d83ad-3d7d-47fd-922a-10bf55d8cfb4@www.allredfuneralhome.com
DTSTAMP:20260424T085700Z
DTSTART:20260423T160000Z
DTEND:20260423T170000Z
SUMMARY:Visitation
DESCRIPTION:
URL:https://www.allredfuneralhome.com/obituaries/william-daniel
LOCATION:Allred Funeral Home 212 South Main Street  Berrien Springs MI 
	49103
GEO:41.9459026;-86.3358936
END:VEVENT
END:VCALENDAR