BEGIN:VCALENDAR
VERSION:2.0
PRODID:-//Tukios.com/
BEGIN:VEVENT
UID:15d0e409-e737-4dfe-9ef8-ec2dd0c31503@www.allredfuneralhome.com
DTSTAMP:20260422T174651Z
DTSTART:20260423T170000Z
DTEND:20260423T180000Z
SUMMARY:Funeral Service
DESCRIPTION:
URL:https://www.allredfuneralhome.com/obituaries/william-daniel
LOCATION:Allred Funeral Home 212 South Main Street  Berrien Springs MI 
	49103
GEO:41.9459026;-86.3358936
END:VEVENT
END:VCALENDAR