BEGIN:VCALENDAR
VERSION:2.0
PRODID:-//Tukios.com/
BEGIN:VEVENT
UID:14210589-d27f-48ec-9881-ca0a367b2f0a@www.allredfuneralhome.com
DTSTAMP:20260422T174550Z
DTSTART:20260423T183000Z
DTEND:20260423T190000Z
SUMMARY:Burial
DESCRIPTION:
URL:https://www.allredfuneralhome.com/obituaries/william-daniel
LOCATION:  Rosehill Road  Berrien Springs MI 49103
GEO:41.9408469;-86.3397436
END:VEVENT
END:VCALENDAR